BEGIN:VCALENDAR
PRODID:-//eluceo/ical//2.0/EN
VERSION:2.0
CALSCALE:GREGORIAN
BEGIN:VEVENT
UID:3d602c2d68e5584782f11b6b7995f573
DTSTAMP:20260423T191329Z
SUMMARY:"Orgel-Trost" Konzert und Referat
DESCRIPTION:Webseite: https://www.sieberspace.ch/\nReferenten/innen: Wolfga
 ng Sieber\, Organist\, Arrangeur\, Komponist\, Pianist  Kastanienbaum\,
  Luzern
URL:https://rotary-neckertal.ch/de/agenda/show/172150
DTSTART;TZID=Europe/Zurich:20240417T113000
DTEND;TZID=Europe/Zurich:20240417T140000
LOCATION:Kath. Kirche Degersheim   -   Wolfensberg
CATEGORIES:Rotary
END:VEVENT
BEGIN:VTIMEZONE
TZID:Europe/Zurich
BEGIN:DAYLIGHT
DTSTART:20240417T113000
TZNAME:CEST
TZOFFSETTO:+0200
TZOFFSETFROM:+0200
END:DAYLIGHT
END:VTIMEZONE
END:VCALENDAR
