BEGIN:VCALENDAR
PRODID:-//eluceo/ical//2.0/EN
VERSION:2.0
CALSCALE:GREGORIAN
BEGIN:VEVENT
UID:d624a4ad38f782f067f8de75fc78d0d2
DTSTAMP:20260424T090833Z
SUMMARY:Action Day 2023 – Die rotarische Familie packt gemeinsam an!
DESCRIPTION:
URL:https://rotary2000.ch/fr/agenda/show/147717
DTSTART;TZID=Europe/Zurich:20230513T070000
DTEND;TZID=Europe/Zurich:20230513T230000
LOCATION:Standort gemäss Veranstaltungs-Details
CATEGORIES:Rotary
END:VEVENT
BEGIN:VTIMEZONE
TZID:Europe/Zurich
BEGIN:DAYLIGHT
DTSTART:20230513T070000
TZNAME:CEST
TZOFFSETTO:+0200
TZOFFSETFROM:+0200
END:DAYLIGHT
END:VTIMEZONE
END:VCALENDAR
