BEGIN:VCALENDAR
PRODID:-//eluceo/ical//2.0/EN
VERSION:2.0
CALSCALE:GREGORIAN
BEGIN:VEVENT
UID:e34da375c0aa94f47e08f5f897ac0b53
DTSTAMP:20260421T100809Z
SUMMARY:Dreikönigs- Konzert Degersheim
DESCRIPTION:Conférencier(s): Wolfgang Sieber OrgelSinfonisches Orchester W
 il\,  Leitung: Hugo Bollschweiler
URL:https://rotary-neckertal.ch/fr/agenda/show/189862
DTSTART;TZID=Europe/Zurich:20250112T170000
DTEND;TZID=Europe/Zurich:20250112T183000
LOCATION:Katholische Kirche St. Jakobus Degersheim
CATEGORIES:Rotary
END:VEVENT
BEGIN:VTIMEZONE
TZID:Europe/Zurich
BEGIN:STANDARD
DTSTART:20250112T170000
TZNAME:CET
TZOFFSETTO:+0100
TZOFFSETFROM:+0100
END:STANDARD
END:VTIMEZONE
END:VCALENDAR
