BEGIN:VCALENDAR
PRODID:-//eluceo/ical//2.0/EN
VERSION:2.0
CALSCALE:GREGORIAN
BEGIN:VEVENT
UID:484649652bae812778f69e8c5d91026b
DTSTAMP:20260421T151432Z
SUMMARY:Dreikönigskonzert
DESCRIPTION:Sito web: https://dreikoenigskonzert.ch/
URL:https://rotary-neckertal.ch/it/agenda/show/170392
DTSTART;TZID=Europe/Zurich:20240107T170000
DTEND;TZID=Europe/Zurich:20240107T190000
LOCATION:Kath. Kirche Degersheim
CATEGORIES:Rotary
END:VEVENT
BEGIN:VTIMEZONE
TZID:Europe/Zurich
BEGIN:STANDARD
DTSTART:20240107T170000
TZNAME:CET
TZOFFSETTO:+0100
TZOFFSETFROM:+0100
END:STANDARD
END:VTIMEZONE
END:VCALENDAR
