BEGIN:VCALENDAR
PRODID:-//eluceo/ical//2.0/EN
VERSION:2.0
CALSCALE:GREGORIAN
BEGIN:VEVENT
UID:4000f622441e58521d826467c34b94d2
DTSTAMP:20260421T121125Z
SUMMARY:Ceneri Bahntunnel\, ein grosser Schritt in die Zukunft
DESCRIPTION:Relatore/i: Stefan Iseli cablex AG\, CEO Grossprojekte
URL:https://rotary-neckertal.ch/it/agenda/show/38822
DTSTART;TZID=Europe/Zurich:20140312T120000
DTEND;TZID=Europe/Zurich:20140312T120000
LOCATION:Hotel Wolfensberg
CATEGORIES:Rotary
END:VEVENT
BEGIN:VTIMEZONE
TZID:Europe/Zurich
BEGIN:STANDARD
DTSTART:20140312T120000
TZNAME:CET
TZOFFSETTO:+0100
TZOFFSETFROM:+0100
END:STANDARD
END:VTIMEZONE
END:VCALENDAR
