BEGIN:VCALENDAR
PRODID:-//eluceo/ical//2.0/EN
VERSION:2.0
CALSCALE:GREGORIAN
BEGIN:VEVENT
UID:b97860b31cb30a8defade33a3e242d36
DTSTAMP:20260421T120642Z
SUMMARY:Charity Golfturnier\; Heinz Jost
DESCRIPTION:Zu Gunsten des Waisenhauses BanMeata Khon Kaen\, Thailand\nRela
 tore/i: Heinz Jost
URL:https://rotary-neckertal.ch/it/agenda/show/39821
DTSTART;TZID=Europe/Zurich:20140627T080000
DTEND;TZID=Europe/Zurich:20140627T080000
LOCATION:Appenzeller Golf Club\, Gonten
CATEGORIES:Rotary
END:VEVENT
BEGIN:VTIMEZONE
TZID:Europe/Zurich
BEGIN:DAYLIGHT
DTSTART:20140627T080000
TZNAME:CEST
TZOFFSETTO:+0200
TZOFFSETFROM:+0200
END:DAYLIGHT
END:VTIMEZONE
END:VCALENDAR
