BEGIN:VCALENDAR
PRODID:-//eluceo/ical//2.0/EN
VERSION:2.0
CALSCALE:GREGORIAN
BEGIN:VEVENT
UID:aa6e423b8e99e0e42d34ad81f28f6f91
DTSTAMP:20260421T105246Z
SUMMARY:Präsenz-Stamm
DESCRIPTION:
URL:https://rotary-neckertal.ch/it/agenda/show/42263
DTSTART;TZID=Europe/Zurich:20140806T190000
DTEND;TZID=Europe/Zurich:20140806T190000
LOCATION:Hotel Wolfensberg
CATEGORIES:Rotary
END:VEVENT
BEGIN:VTIMEZONE
TZID:Europe/Zurich
BEGIN:DAYLIGHT
DTSTART:20140806T190000
TZNAME:CEST
TZOFFSETTO:+0200
TZOFFSETFROM:+0200
END:DAYLIGHT
END:VTIMEZONE
END:VCALENDAR
