BEGIN:VCALENDAR
PRODID:-//eluceo/ical//2.0/EN
VERSION:2.0
CALSCALE:GREGORIAN
BEGIN:VEVENT
UID:9ef2b86d0fbcc56c0790cae2ebd66773
DTSTAMP:20260421T104802Z
SUMMARY:Fondueplausch zum Jahresabschluss
DESCRIPTION:
URL:https://rotary-neckertal.ch/it/agenda/show/45848
DTSTART;TZID=Europe/Zurich:20141229T183000
DTEND;TZID=Europe/Zurich:20141229T183000
LOCATION:Restaurant Bergli\, Dicken
CATEGORIES:Rotary
END:VEVENT
BEGIN:VTIMEZONE
TZID:Europe/Zurich
BEGIN:STANDARD
DTSTART:20141229T183000
TZNAME:CET
TZOFFSETTO:+0100
TZOFFSETFROM:+0100
END:STANDARD
END:VTIMEZONE
END:VCALENDAR
