BEGIN:VCALENDAR
PRODID:-//eluceo/ical//2.0/EN
VERSION:2.0
CALSCALE:GREGORIAN
BEGIN:VEVENT
UID:881d4ecfa99ed88f1d56fc7a5452fc48
DTSTAMP:20260423T085240Z
SUMMARY:Präsenz-Stamm
DESCRIPTION:
URL:https://rotary-neckertal.ch/it/agenda/show/48037
DTSTART;TZID=Europe/Zurich:20150506T190000
DTEND;TZID=Europe/Zurich:20150506T190000
LOCATION:Hotel Wolfensberg
CATEGORIES:Rotary
END:VEVENT
BEGIN:VTIMEZONE
TZID:Europe/Zurich
BEGIN:DAYLIGHT
DTSTART:20150506T190000
TZNAME:CEST
TZOFFSETTO:+0200
TZOFFSETFROM:+0200
END:DAYLIGHT
END:VTIMEZONE
END:VCALENDAR
