BEGIN:VCALENDAR
PRODID:-//eluceo/ical//2.0/EN
VERSION:2.0
CALSCALE:GREGORIAN
BEGIN:VEVENT
UID:276800ffaed334851dc7ea54883e9742
DTSTAMP:20260421T104145Z
SUMMARY:Bulgarien: wissenswertes über die Menschen\, Kultur und Tradition\
 , Wirtschaftslage und momentane Politik
DESCRIPTION:Relatore/i: Sonya Neff\, St.Gallen\, gebürtige Bulgarin
URL:https://rotary-neckertal.ch/it/agenda/show/48047
DTSTART;TZID=Europe/Zurich:20150624T120000
DTEND;TZID=Europe/Zurich:20150624T120000
LOCATION:Hotel Wolfensberg
CATEGORIES:Rotary
END:VEVENT
BEGIN:VTIMEZONE
TZID:Europe/Zurich
BEGIN:DAYLIGHT
DTSTART:20150624T120000
TZNAME:CEST
TZOFFSETTO:+0200
TZOFFSETFROM:+0200
END:DAYLIGHT
END:VTIMEZONE
END:VCALENDAR
