BEGIN:VCALENDAR
PRODID:-//eluceo/ical//2.0/EN
VERSION:2.0
CALSCALE:GREGORIAN
BEGIN:VEVENT
UID:ea5874cd51772d49192d54bb0aae9a71
DTSTAMP:20260423T092250Z
SUMMARY:Imelda Stadler: Besuch Kantonsrat SG (P\, Anmeldung)
DESCRIPTION:Relatore/i: Imelda Stadler
URL:https://rotary-neckertal.ch/it/agenda/show/52871
DTSTART;TZID=Europe/Zurich:20150916T120000
DTEND;TZID=Europe/Zurich:20150916T120000
LOCATION:Kantonsparlament
CATEGORIES:Rotary
END:VEVENT
BEGIN:VTIMEZONE
TZID:Europe/Zurich
BEGIN:DAYLIGHT
DTSTART:20150916T120000
TZNAME:CEST
TZOFFSETTO:+0200
TZOFFSETFROM:+0200
END:DAYLIGHT
END:VTIMEZONE
END:VCALENDAR
