BEGIN:VCALENDAR
PRODID:-//eluceo/ical//2.0/EN
VERSION:2.0
CALSCALE:GREGORIAN
BEGIN:VEVENT
UID:20052f463b64d9c95cdd844add1da3d9
DTSTAMP:20260423T084215Z
SUMMARY:Plauder Lunch mit dem RC Toggenburg
DESCRIPTION:
URL:https://rotary-neckertal.ch/it/agenda/show/52873
DTSTART;TZID=Europe/Zurich:20150930T120000
DTEND;TZID=Europe/Zurich:20150930T120000
LOCATION:Hotel Wolfensberg
CATEGORIES:Rotary
END:VEVENT
BEGIN:VTIMEZONE
TZID:Europe/Zurich
BEGIN:DAYLIGHT
DTSTART:20150930T120000
TZNAME:CEST
TZOFFSETTO:+0200
TZOFFSETFROM:+0200
END:DAYLIGHT
END:VTIMEZONE
END:VCALENDAR
