BEGIN:VCALENDAR
PRODID:-//eluceo/ical//2.0/EN
VERSION:2.0
CALSCALE:GREGORIAN
BEGIN:VEVENT
UID:64444e69d0f6d754ce62655d2b676ccc
DTSTAMP:20260421T103819Z
SUMMARY:GV 1. Teil 2015/2016
DESCRIPTION:
URL:https://rotary-neckertal.ch/it/agenda/show/52887
DTSTART;TZID=Europe/Zurich:20151209T120000
DTEND;TZID=Europe/Zurich:20151209T120000
LOCATION:Hotel Wolfensberg
CATEGORIES:Rotary
END:VEVENT
BEGIN:VTIMEZONE
TZID:Europe/Zurich
BEGIN:STANDARD
DTSTART:20151209T120000
TZNAME:CET
TZOFFSETTO:+0100
TZOFFSETFROM:+0100
END:STANDARD
END:VTIMEZONE
END:VCALENDAR
