BEGIN:VCALENDAR
PRODID:-//eluceo/ical//2.0/EN
VERSION:2.0
CALSCALE:GREGORIAN
BEGIN:VEVENT
UID:f69f79472d7a003fb7bb26def2ea9480
DTSTAMP:20260424T131412Z
SUMMARY:Annual Polaris meeting 2024 in Barcelona
DESCRIPTION:Website: https://www.granhotelhavana.com/\nSprekers: \nJan Trnk
 a - Polaris product manager and IT responsible Marion de Lattre Wiesel - P
 olaris Team member
URL:https://team.polaris.rotary.ch/nl/agenda/show/185515
DTSTART;TZID=Europe/Zurich:20241125T093000
DTEND;TZID=Europe/Zurich:20241125T163000
LOCATION:Gran Hotel Havana
CATEGORIES:Rotary
END:VEVENT
BEGIN:VTIMEZONE
TZID:Europe/Zurich
BEGIN:STANDARD
DTSTART:20241125T093000
TZNAME:CET
TZOFFSETTO:+0100
TZOFFSETFROM:+0100
END:STANDARD
END:VTIMEZONE
END:VCALENDAR
