BEGIN:VCALENDAR
PRODID:-//eluceo/ical//2.0/EN
VERSION:2.0
CALSCALE:GREGORIAN
BEGIN:VEVENT
UID:887be350133fd71713d1eb3038857a65
DTSTAMP:20260421T120744Z
SUMMARY:Regionale Roundtable Jugendaustausch Distrikt 2000 Region A
DESCRIPTION:Talare: Nadja Klaus\, Präsidentin JuKo Distrikt 2000Marco Baur
 \, Mitglied JuKo Distrikt 2000
URL:https://rotary2000.ch/sv/agenda/show/174166
DTSTART;TZID=Europe/Zurich:20240406T090000
DTEND;TZID=Europe/Zurich:20240406T120000
LOCATION:Restaurant Va Bene\, Gäuggelistrasse 60\, Chur
CATEGORIES:Rotary
END:VEVENT
BEGIN:VTIMEZONE
TZID:Europe/Zurich
BEGIN:DAYLIGHT
DTSTART:20240406T090000
TZNAME:CEST
TZOFFSETTO:+0200
TZOFFSETFROM:+0200
END:DAYLIGHT
END:VTIMEZONE
END:VCALENDAR
